BEGIN:VCALENDAR
VERSION:2.0
PRODID:-//wp-events-plugin.com//6.6.4.4//EN
TZID:Australia/Adelaide
X-WR-TIMEZONE:Australia/Adelaide
BEGIN:VEVENT
UID:38@national4x4.com.au
DTSTART;TZID=Australia/Hobart:20210723T170000
DTEND;TZID=Australia/Hobart:20210725T170000
DTSTAMP:20210223T083400Z
URL:https://national4x4.com.au/events/xmas-in-july-2021-intentive-date/
SUMMARY:Xmas In July 2021 Intentive Date
DESCRIPTION:Christmas In July is being held at a private residence at Yolla
 .  Address will sent to ones that say are coming when it gets close to the
  date of the event.\n\nThere is enough room for small camping set-ups such
  as swags or tents. If you need to bring something bigger for your accommo
 dation  please contact Shelly .\n\nLap size dogs only and must be kept on 
 a leash and children are to be kept under control at all times.\n\nSecret 
 Santa for the children\, we are asking the parents to buy a small gift to 
 put under the Christmas Tree. Each  driver will receive a ticket in the lu
 cky door prize.\n\nThere will be a cost for the meal as we cannot expect o
 ur member to foot the food bill.  Once the food bill has been worked out t
 he ones that are coming will receive a  PM with the cost.  A menu will be 
 posted once worked out and closer to the date of the event.\n\nTheme for t
 he night is Christmas of course so drag out your festive clothes and you n
 ever know you may even win a prize.
ATTACH;FMTTYPE=image/jpeg:https://national4x4.com.au/wp-content/uploads/20
 20/11/7370_image_122079719_3209426799186510_7102743969114381589_o.jpg
END:VEVENT
BEGIN:VTIMEZONE
TZID:Australia/Hobart
X-LIC-LOCATION:Australia/Hobart
BEGIN:STANDARD
DTSTART:20210404T020000
TZOFFSETFROM:+1100
TZOFFSETTO:+1000
TZNAME:AEST
END:STANDARD
END:VTIMEZONE
END:VCALENDAR