BEGIN:VCALENDAR
VERSION:2.0
PRODID:-//wp-events-plugin.com//6.6.4.4//EN
TZID:Australia/Adelaide
X-WR-TIMEZONE:Australia/Adelaide
BEGIN:VEVENT
UID:127@national4x4.com.au
DTSTART;TZID=Australia/Adelaide:20250328T140000
DTEND;TZID=Australia/Adelaide:20250330T163000
DTSTAMP:20250208T070456Z
URL:https://national4x4.com.au/events/talinga-3/
SUMMARY:Talinga
DESCRIPTION:Are you looking at wanting to get out and do some 4wding and ha
 ven't been able to because you have no one to go with or you're looking at
  joining a 4wd club well here is your chance to have a great weekend trip 
 away come and have some fun in the sand dunes You will need a sand flag an
 d a UHF as well as an air compressor and tyre deflator will cost $20 per d
 ay $40 for the weekend\, So come along have some fun.
LOCATION:Talinga Sandhills Peake\, Talinga Sandhills Peake\, 
X-APPLE-STRUCTURED-LOCATION;VALUE=URI;X-ADDRESS=Talinga Sandhills Peake\, ;
 X-APPLE-RADIUS=100;X-TITLE=Talinga Sandhills Peake:geo:0,0
END:VEVENT
BEGIN:VTIMEZONE
TZID:Australia/Adelaide
X-LIC-LOCATION:Australia/Adelaide
BEGIN:DAYLIGHT
DTSTART:20241006T030000
TZOFFSETFROM:+0930
TZOFFSETTO:+1030
TZNAME:ACDT
END:DAYLIGHT
END:VTIMEZONE
END:VCALENDAR