BEGIN:VCALENDAR
VERSION:2.0
PRODID:-//wp-events-plugin.com//6.6.4.4//EN
TZID:Australia/Adelaide
X-WR-TIMEZONE:Australia/Adelaide
BEGIN:VEVENT
UID:29@national4x4.com.au
DTSTART;TZID=Australia/Adelaide:20200913T190000
DTEND;TZID=Australia/Adelaide:20200913T191000
DTSTAMP:20200818T034431Z
URL:https://national4x4.com.au/events/special-general-meeting/
SUMMARY:Special General Meeting - State Specific Times in Comments
DESCRIPTION:In accordance with the Constitution\, a Special General Meeting
  will be held immediately prior to the General meeting to allow members to
  vote on the minor changes to the By Laws. Specifically\, By law f) Genera
 l rules concerning Club trips or events:\n\ni. All attendees (members and 
 visitors alike) are required to abide by the Club’s constitution.\nii. N
 o unofficial competitions or displays of four wheeling shall take place du
 ring Club trips without the permission of the organisers.\niii. Club trip 
 attendees are required to sign any paper work required to ensure that memb
 ers on a trip are covered by the Club insurance. Visitors are required to 
 sign the Insurance Waiver. All state and national road rules apply on all 
 Club trips\, including having a valid driver’s licence.\n\nState Specifi
 c time:\n\nQLD/NSW/ACT/VIC/TAS 7:30PM\nSA/NT 7:00PM\nWA 5:30PM
ATTACH;FMTTYPE=image/jpeg:https://national4x4.com.au/wp-content/uploads/20
 20/08/New-Logo-Official-tall.png
CATEGORIES:Club Meeting
END:VEVENT
BEGIN:VTIMEZONE
TZID:Australia/Adelaide
X-LIC-LOCATION:Australia/Adelaide
BEGIN:STANDARD
DTSTART:20200405T020000
TZOFFSETFROM:+1030
TZOFFSETTO:+0930
TZNAME:ACST
END:STANDARD
END:VTIMEZONE
END:VCALENDAR