BEGIN:VCALENDAR
VERSION:2.0
PRODID:-//wp-events-plugin.com//6.6.4.4//EN
TZID:Australia/Adelaide
X-WR-TIMEZONE:Australia/Adelaide
BEGIN:VEVENT
UID:7@national4x4.com.au
DTSTART;TZID=Australia/Adelaide;VALUE=DATE:20200628
DTEND;TZID=Australia/Adelaide;VALUE=DATE:20200629
DTSTAMP:20210804T084103Z
URL:https://national4x4.com.au/events/sa-eagle-view-4wd-track-day-trip/
SUMMARY:SA: Eagle View 4WD Track - Day Trip
DESCRIPTION:Come and join us for a drive around Eagle View 4WD Track. The c
 ost of this event is $60.\n\nDue to COVID-19 restrictions gatherings are l
 imited to 20 people. If we have more than 20 people coming along for this 
 event we will spilt into groups under the 20 person  limit and have 30 mi
 ns to an hour gap between groups arriving and starting the track.\n\nAbout
  Eagle View (from Eagle View website):\n\nThis is a self drive 4WD track t
 hrough our Private Conservation Area\nThe track is designed to be a scenic
  drive through our rough and rugged country side.\nAccess to the track req
 uires a 4WD vehicle with low range.\nThe track is about a 3 hour drive wit
 h many scenic spots to stop and enjoy.\nEntry permit cost $60 per vehicle 
 for a one way loop of the property\n\nCONDITIONS OF ENTRY4WDs must have lo
 w range (No AWDs allowed)4WDs must be road worthy\, registered and in good
 /safe working order.Conservation Area -  No Pets AllowedThis is Private P
 roperty any one entering the property must obey directions from the owners
  or staffYou must take full responsibility for your vehicle and its passen
 gersThe owners or staff can close and refuse entry to any section of the p
 roperty and can terminate access at any time\nTRACK RULESNever park your v
 ehicle in dry grass only stop in clear areasVehicle must remain on the des
 ignated track at all times and not cause damage to the trackAny off track 
 driving will incur a $200 fine per incident plus the cost of repairs and a
 ny rehabilitation workAny off track sight seeing must be on foot and child
 ren be under adult supervisionNative animals and stock must not be chased 
 or unduly disturbedAll rubbish must be returnedNo Fires ( Gas BBQ allowed 
 at certain times of the year please ask first)No SmokingGates must be left
  as per instructions by ownerGive way to and respect walkersNo Pets Allowe
 d
ATTACH;FMTTYPE=image/jpeg:https://national4x4.com.au/wp-content/uploads/20
 20/06/96512877_1308018659388599_1348233995636178944_n.jpg
CATEGORIES:4 Wheel Driving,Meet and Greet
LOCATION:Eagle View 4WD Track\, 159 Three Chain Road\, Sanderston\, South A
 ustralia\, 5237\, Australia
GEO:-34.747214;139.218039
X-APPLE-STRUCTURED-LOCATION;VALUE=URI;X-ADDRESS=159 Three Chain Road\, Sand
 erston\, South Australia\, 5237\, Australia;X-APPLE-RADIUS=100;X-TITLE=Eag
 le View 4WD Track:geo:-34.747214,139.218039
END:VEVENT
BEGIN:VTIMEZONE
TZID:Australia/Adelaide
X-LIC-LOCATION:Australia/Adelaide
BEGIN:STANDARD
DTSTART:20200405T020000
TZOFFSETFROM:+1030
TZOFFSETTO:+0930
TZNAME:ACST
END:STANDARD
END:VTIMEZONE
END:VCALENDAR