BEGIN:VCALENDAR
VERSION:2.0
PRODID:-//wp-events-plugin.com//6.6.4.4//EN
TZID:Australia/Adelaide
X-WR-TIMEZONE:Australia/Adelaide
BEGIN:VEVENT
UID:56@national4x4.com.au
DTSTART;TZID=Australia/Hobart:20210417T170000
DTEND;TZID=Australia/Hobart:20210418T150000
DTSTAMP:20210223T083312Z
URL:https://national4x4.com.au/events/meet-and-greet-with-leanne-and-dave-
 cox/
SUMMARY:Meet and Greet with Leanne and Dave Cox
DESCRIPTION:If Borders Stay Open\n\nHolding a Meet and Greet to get to know
   our mainland  members Leanne and Dave Cox.\n\nThey are coming over to ou
 r lovely state and would like to do a track with other club members\, they
  are coming over in their Pajero...Their not  wanting to do anything hard 
 so we will be taking  them on our scenic Dazzler Ranges Track...plus this 
 is also close to their base camp. \n\nCamping Saturday night and doing the
   Track on Sunday...\nCamping spot will be up dated closer to the date...\
 n\nBYO food and drinks...
ATTACH;FMTTYPE=image/jpeg:https://national4x4.com.au/wp-content/uploads/20
 21/02/7978_image_151253293_1825899810906884_8423822633246735291_o.jpg
END:VEVENT
BEGIN:VTIMEZONE
TZID:Australia/Hobart
X-LIC-LOCATION:Australia/Hobart
BEGIN:STANDARD
DTSTART:20210404T020000
TZOFFSETFROM:+1100
TZOFFSETTO:+1000
TZNAME:AEST
END:STANDARD
END:VTIMEZONE
END:VCALENDAR