BEGIN:VCALENDAR
VERSION:2.0
PRODID:-//wp-events-plugin.com//6.6.4.4//EN
TZID:Australia/Adelaide
X-WR-TIMEZONE:Australia/Adelaide
BEGIN:VEVENT
UID:36@national4x4.com.au
DTSTART;TZID=Australia/Hobart:20210305T170000
DTEND;TZID=Australia/Hobart:20210308T170000
DTSTAMP:20210223T083105Z
URL:https://national4x4.com.au/events/march-long-weekend-peron-dunes/
SUMMARY:March Long Weekend Peron Dunes
DESCRIPTION:If intending in coming please register by clicking on the link.
 ..\nhttp://32u.2e2.mywebsitetransfer.com/events/march-long-weekend-peron-d
 unes/\n\nTAS….Long Weekend in March Peron Dunes\, St Helens\, East Coast
 .\nBase Camp at Hillcrest Caravan Park. If intending in coming it’s up t
 o the individual to book their own accommodation\, cabin\, powered and non
  powered sites. There is a communal kitchen and bbq area available. Toilet
 s and Shower block in walking distance to camping area…\n\nMust Have:\nF
 ront and Rear Recovery Points in good working order\nRecovery Gear\, Snatc
 h Strap or Snatch Rope\, Soft or hard shackles\, winch blanket all to be i
 n good order.\nFood and drinks\nCamping Gear\nUHF\nSand Flag\nIf you do no
 t have any recovery gear please contact me\, Shelly Laundy prior to the ev
 ent.
ATTACH;FMTTYPE=image/jpeg:https://national4x4.com.au/wp-content/uploads/20
 20/11/7365_image_119991985_1694232817406918_6521271660329721255_n.jpg
LOCATION:Peron Dunes\, Stieglitz\, TAS\, Australia
GEO:-41.310475;148.321288
X-APPLE-STRUCTURED-LOCATION;VALUE=URI;X-ADDRESS=Stieglitz\, TAS\, Australia
 ;X-APPLE-RADIUS=100;X-TITLE=Peron Dunes:geo:-41.310475,148.321288
END:VEVENT
BEGIN:VTIMEZONE
TZID:Australia/Hobart
X-LIC-LOCATION:Australia/Hobart
BEGIN:DAYLIGHT
DTSTART:20201004T030000
TZOFFSETFROM:+1000
TZOFFSETTO:+1100
TZNAME:AEDT
END:DAYLIGHT
END:VTIMEZONE
END:VCALENDAR