BEGIN:VCALENDAR
VERSION:2.0
PRODID:-//wp-events-plugin.com//6.6.4.4//EN
TZID:Australia/Adelaide
X-WR-TIMEZONE:Australia/Adelaide
BEGIN:VEVENT
UID:27@national4x4.com.au
DTSTART;TZID=Australia/Melbourne:20210516T130000
DTEND;TZID=Australia/Melbourne:20210525T160000
DTSTAMP:20210223T083328Z
URL:https://national4x4.com.au/events/kirth-kiln-camping-weekend-pending/
SUMMARY:Kirth Kiln Camping Weekend Pending
DESCRIPTION:Same location as last time. GPS co-ordinates in the comments.\n
 Club flags will be flying. UHF ch18 monitored....and if you still can fnd 
 us\, 0409795590
ATTACH;FMTTYPE=image/jpeg:https://national4x4.com.au/wp-content/uploads/20
 20/08/6891_image_93090889_10219838460685281_3949862460403482624_n.jpg
CATEGORIES:Camping
END:VEVENT
BEGIN:VTIMEZONE
TZID:Australia/Melbourne
X-LIC-LOCATION:Australia/Melbourne
BEGIN:STANDARD
DTSTART:20210404T020000
TZOFFSETFROM:+1100
TZOFFSETTO:+1000
TZNAME:AEST
END:STANDARD
END:VTIMEZONE
END:VCALENDAR